BEGIN:VCALENDAR
VERSION:2.0
PRODID:-//eventon.com NONSGML v1.0//EN
CALSCALE:GREGORIAN
METHOD:PUBLISH
BEGIN:VEVENT
UID:69e7384ab3a20
DTSTAMP:20260421T084146Z
DTSTART:20220830T190000Z
DTEND:20220830T200000Z
LOCATION:Online
SUMMARY:Webinar: The Anatomy of a Decision in Construction
DESCRIPTION:The most critical factor in project delivery is effective decis
 ion-making. Critical decisions must be made throughout a project lifecycle\
 ,  but frequently they are made with little more than the experience held i
 n the collective memory of project teams. Collaboration\,  communication\, 
  and early teaming focused on critical decisions are key to[..]\nhttps://ww
 w.abcwi.org/events/effective-decision-making-in-construction/
URL:https://www.abcwi.org/events/effective-decision-making-in-construction/
END:VEVENT
END:VCALENDAR