BEGIN:VCALENDAR
VERSION:2.0
PRODID:-//eventon.com NONSGML v1.0//EN
CALSCALE:GREGORIAN
METHOD:PUBLISH
BEGIN:VEVENT
UID:69e73edb5d3c0
DTSTAMP:20260421T090947Z
DTSTART:20230619T120000Z
DTEND:20230619T163000Z
LOCATION:Radisson Hotel &amp; Conference Center 625 West Rolling Meadows Drive
SUMMARY:FA/CPR Training - Fond du Lac
DESCRIPTION:Gold Cross FA/CPR  This course combines CPR and First Aid trai
 ning. It was designed for the occupational first aid provider\,  this extre
 mely flexible program can help employers meet OSHA and other federal and st
 ate regulatory requirements for training employees how to respond and care 
 for medical emergencies at work. Classes[..]\nhttps://www.abcwi.org/events/
 fa-cpr-training-fond-du-lac-3/
URL:https://www.abcwi.org/events/fa-cpr-training-fond-du-lac-3/
END:VEVENT
END:VCALENDAR