BEGIN:VCALENDAR
VERSION:2.0
PRODID:-//eventon.com NONSGML v1.0//EN
CALSCALE:GREGORIAN
METHOD:PUBLISH
BEGIN:VEVENT
UID:69e73dec32fdd
DTSTAMP:20260421T090548Z
DTSTART:20230707T140000Z
DTEND:20230707T190000Z
LOCATION:Milwaukee Area
SUMMARY:FA/CPR Training - Milwaukee
DESCRIPTION:Gold Cross FA/CPR  This course combines CPR and First Aid trai
 ning. It was designed for the occupational first aid provider\,  this extre
 mely flexible program can help employers meet OSHA and other federal and st
 ate regulatory requirements for training employees how to respond and care 
 for medical emergencies at work. Classes[..]\nhttps://www.abcwi.org/events/
 fa-cpr-training-milwaukee-2/
URL:https://www.abcwi.org/events/fa-cpr-training-milwaukee-2/
END:VEVENT
END:VCALENDAR