BEGIN:VCALENDAR
VERSION:2.0
PRODID:-//eventon.com NONSGML v1.0//EN
CALSCALE:GREGORIAN
METHOD:PUBLISH
BEGIN:VEVENT
UID:69e7404329838
DTSTAMP:20260421T091547Z
DTSTART:20230615T120000Z
DTEND:20230615T173000Z
LOCATION:Tri City Glass &amp; Door 2801 N. Roemer Rd.
SUMMARY:10-hour OSHA Construction Safety & Health Outreach 6/15 & 6/16
DESCRIPTION:This is a TWO-DAY course is being held on June 15 &amp; 16\,  2
 023 in the Appleton area. Attendees successfully completing this two-day co
 urse will receive a wallet-sized card from the U.S. Department of Labor whi
 ch certifies completion of this course and a large reference binder for fut
 ure use. This[..]\nhttps://www.abcwi.org/events/10-hour-osha-construction-s
 afety-health-outreach-6-15-6-16/
URL:https://www.abcwi.org/events/10-hour-osha-construction-safety-health-outreach-6-15-6-16/
END:VEVENT
END:VCALENDAR