BEGIN:VCALENDAR
VERSION:2.0
PRODID:-//eventon.com NONSGML v1.0//EN
CALSCALE:GREGORIAN
METHOD:PUBLISH
BEGIN:VEVENT
UID:69e73c828ffbe
DTSTAMP:20260421T085946Z
DTSTART:20230607T150000Z
DTEND:20230607T220000Z
LOCATION:The Oaks Golf Course  4740 Pierceville Rd\,  Cottage Grove\,  WI 53527
SUMMARY:Golf Scramble at The Oaks 2023
DESCRIPTION:GOLF SPOTS ARE CURRENTLY SOLD OUT &#8211; A WAITLIST HAS BEEN S
 TARTED. HOLE SPONSORSHIPS ARE SOLD OUT. Join us on June 7th for the 2023 Go
 lf Scramble at The Oaks! Registration opens at 10:00 a.m. with a shotgun st
 art to 11:00 a.m. **If you are feeling ill or have any[..]\nhttps://www.abc
 wi.org/events/golf-scramble-at-the-oaks-2023/
URL:https://www.abcwi.org/events/golf-scramble-at-the-oaks-2023/
END:VEVENT
END:VCALENDAR