BEGIN:VCALENDAR
VERSION:2.0
PRODID:-//eventon.com NONSGML v1.0//EN
CALSCALE:GREGORIAN
METHOD:PUBLISH
BEGIN:VEVENT
UID:69e73be898882
DTSTAMP:20260421T085712Z
DTSTART:20230719T220000Z
DTEND:20230719T233000Z
LOCATION:Boat House Pub &amp; Eatery N10575 Chief Kuno Trail
SUMMARY:Networking Social - Fox Lake
DESCRIPTION:Join us on July 19 in Fox Lake from 5:00pm &#8211; 6:30pm. The 
 Boat House Pub &amp; Eatery (N 10575 Chief Kuno Trail\,  Fox Lake) While th
 is event is free to members\,  we still need to know how many individuals w
 ill attend at least 48 hours in advance. EVENT SPONSORS:[..]\nhttps://www.a
 bcwi.org/events/networking-social-fox-lake-2/
URL:https://www.abcwi.org/events/networking-social-fox-lake-2/
END:VEVENT
END:VCALENDAR