BEGIN:VCALENDAR
VERSION:2.0
PRODID:-//eventon.com NONSGML v1.0//EN
CALSCALE:GREGORIAN
METHOD:PUBLISH
BEGIN:VEVENT
UID:69e73b90a8151
DTSTAMP:20260421T085544Z
DTSTART:20230713T180000Z
DTEND:20230713T200000Z
LOCATION:
SUMMARY:Bluebeam Baseline Basics
DESCRIPTION:BASELINE BASICS 2 hours Whether you’re opening Bluebeam Revu 
 for the first time\,  or you’ve used it for years\,  this class will ensu
 re a higher baseline knowledge. Attendees will learn interface navigation i
 ncluding menu dropdowns\,  toolbars\,  various tool panels\,  keyboard shor
 tcuts and a few recommended settings. While learning various markup[..]\nht
 tps://www.abcwi.org/events/bluebeam-baseline-basics-copy/
URL:https://www.abcwi.org/events/bluebeam-baseline-basics-copy/
END:VEVENT
END:VCALENDAR