BEGIN:VCALENDAR
VERSION:2.0
PRODID:-//eventon.com NONSGML v1.0//EN
CALSCALE:GREGORIAN
METHOD:PUBLISH
BEGIN:VEVENT
UID:69e73bd08e7c6
DTSTAMP:20260421T085648Z
DTSTART:20230612T140000Z
DTEND:20230612T170000Z
LOCATION:
SUMMARY:Reading Construction Documents
DESCRIPTION:Reading Construction Documents (6 hours) This  two-day\,  onli
 ne program is for entry-level architectural or engineering designers\,  app
 rentices\,  entry-level tradespersons\,  project coordinators\,  assistant 
 project managers\,  new project managers\,  estimators\,  specialty sales r
 epresentatives\,  or anyone in career transition looking for a refresher. D
 esigned to quickly familiarize students with the basics of reading[..]\nhtt
 ps://www.abcwi.org/events/reading-construction-documents/
URL:https://www.abcwi.org/events/reading-construction-documents/
END:VEVENT
END:VCALENDAR