BEGIN:VCALENDAR
VERSION:2.0
PRODID:-//eventon.com NONSGML v1.0//EN
CALSCALE:GREGORIAN
METHOD:PUBLISH
BEGIN:VEVENT
UID:69e73d9c13c09
DTSTAMP:20260421T090428Z
DTSTART:20230706T170000Z
DTEND:20230706T210000Z
LOCATION:
SUMMARY:Construction Estimating Principles & Application
DESCRIPTION:Construction Estimating Principles and Application (8 hours) Gr
 eat Estimators know that to be competitive and competent in the current mar
 ket\,  their companies must continually be in search of an edge. “How can
  we approach this project differently than our competition?” This virtual
  interactive training workshop is scheduled in two half-day[..]\nhttps://ww
 w.abcwi.org/events/construction-estimating-principles-application/
URL:https://www.abcwi.org/events/construction-estimating-principles-application/
END:VEVENT
END:VCALENDAR