BEGIN:VCALENDAR
VERSION:2.0
PRODID:-//eventon.com NONSGML v1.0//EN
CALSCALE:GREGORIAN
METHOD:PUBLISH
BEGIN:VEVENT
UID:69e73dec366ca
DTSTAMP:20260421T090548Z
DTSTART:20230627T120000Z
DTEND:20230627T140000Z
LOCATION:Country Inn &amp; Suites by Raddison 355 N. Fox River Dr.
SUMMARY:Regional Safety Meeting - Appleton
DESCRIPTION:ABC of Wisconsin is hosting five regional safety breakfast meet
 ings for all member company management team members. The two-hour session w
 ith safety expert Don Moen\,  will include breakfast. It will provide the l
 atest on safety matters and best practices relevant to construction (falls 
 &amp; ladders\,  trenching &amp; excavating\,  silica\,  amputations\, [..]
 \nhttps://www.abcwi.org/events/regional-safety-meeting-appleton/
URL:https://www.abcwi.org/events/regional-safety-meeting-appleton/
END:VEVENT
END:VCALENDAR