BEGIN:VCALENDAR
VERSION:2.0
PRODID:-//eventon.com NONSGML v1.0//EN
CALSCALE:GREGORIAN
METHOD:PUBLISH
BEGIN:VEVENT
UID:69e73ab9685be
DTSTAMP:20260421T085209Z
DTSTART:20230725T120000Z
DTEND:20230725T140000Z
LOCATION:Wildwood Lodge Pewaukee N14 W24121 Tower Place
SUMMARY:Regional Safety Meeting - Milwaukee
DESCRIPTION:ABC of Wisconsin is hosting five regional safety breakfast meet
 ings for all member company management team members. The two-hour session w
 ith safety expert Don Moen\,  will include breakfast. It will provide the l
 atest on safety matters and best practices relevant to construction (falls 
 &amp; ladders\,  trenching &amp; excavating\,  silica\,  amputations\, [..]
 \nhttps://www.abcwi.org/events/regional-safety-meeting-milwaukee/
URL:https://www.abcwi.org/events/regional-safety-meeting-milwaukee/
END:VEVENT
END:VCALENDAR