BEGIN:VCALENDAR
VERSION:2.0
PRODID:-//eventon.com NONSGML v1.0//EN
CALSCALE:GREGORIAN
METHOD:PUBLISH
BEGIN:VEVENT
UID:69e73f4e30641
DTSTAMP:20260421T091142Z
DTSTART:20230606T210000Z
DTEND:20230607T000000Z
LOCATION:ABC of Wisconsin 5330 Wall St.\,  Madison\,  WI 53718
SUMMARY:Installation & Applications Using PVC/CPVC
DESCRIPTION:Installation &amp; Applications Using PVC/CPVC ABC Wisconsin is
  proud to partner with Spears Manufacturing Company to offer education and 
 training on basic installation techniques and specific applications using P
 VC/CPVC materials. This course is approved by DPSC and will qualify for 3 C
 EU’s for licensed plumbers.  This course will qualify for 3[..]\nhttps:
 //www.abcwi.org/events/installation-applications-using-pvc-cpvc/
URL:https://www.abcwi.org/events/installation-applications-using-pvc-cpvc/
END:VEVENT
END:VCALENDAR