BEGIN:VCALENDAR
VERSION:2.0
PRODID:-//eventon.com NONSGML v1.0//EN
CALSCALE:GREGORIAN
METHOD:PUBLISH
BEGIN:VEVENT
UID:69e740629fcfb
DTSTAMP:20260421T091618Z
DTSTART:20230608T190000Z
DTEND:20230608T201500Z
LOCATION:
SUMMARY:Words of Wisdom Web Series – Secrets of a Working Mom in Construction
DESCRIPTION:W.O.W Web Series – Words of Wisdom from Women in Construction
  This four-part web series was designed for anyone in the construction indu
 stry interested in expanding their knowledge base from people who have uniq
 ue experiences in the industry. Expert leaders share knowledge across a var
 iety of topics from leadership and[..]\nhttps://www.abcwi.org/events/words-
 of-wisdom-web-series-secrets-of-a-working-mom-in-construction/
URL:https://www.abcwi.org/events/words-of-wisdom-web-series-secrets-of-a-working-mom-in-construction/
END:VEVENT
END:VCALENDAR