BEGIN:VCALENDAR
VERSION:2.0
PRODID:-//eventon.com NONSGML v1.0//EN
CALSCALE:GREGORIAN
METHOD:PUBLISH
BEGIN:VEVENT
UID:69e74042b14cd
DTSTAMP:20260421T091546Z
DTSTART:20230622T190000Z
DTEND:20230622T201500Z
LOCATION:
SUMMARY:Words of Wisdom Web Series – From Apprentice to Owner: Lessons Learned Along the Way
DESCRIPTION:W.O.W Web Series – Words of Wisdom from Women in Construction
  This four-part web series was designed for anyone in the construction indu
 stry interested in expanding their knowledge base from people who have uniq
 ue experiences in the industry. Expert leaders share knowledge across a var
 iety of topics from leadership and[..]\nhttps://www.abcwi.org/events/words-
 of-wisdom-web-series-from-apprentice-to-owner-lessons-learned-along-the-way
 /
URL:https://www.abcwi.org/events/words-of-wisdom-web-series-from-apprentice-to-owner-lessons-learned-along-the-way/
END:VEVENT
END:VCALENDAR