BEGIN:VCALENDAR
VERSION:2.0
PRODID:-//eventon.com NONSGML v1.0//EN
CALSCALE:GREGORIAN
METHOD:PUBLISH
BEGIN:VEVENT
UID:69e7408dac606
DTSTAMP:20260421T091701Z
DTSTART:20230727T190000Z
DTEND:20230727T201500Z
LOCATION:
SUMMARY:Words of Wisdom Web Series – The Soft Skills of Safety
DESCRIPTION:W.O.W Web Series – Words of Wisdom from Women in Construction
  This four – part web series was designed for anyone in the construction 
 industry interested in expanding their knowledge base from people who have 
 unique experiences in the industry. Expert leaders share knowledge across a
  variety of topics from[..]\nhttps://www.abcwi.org/events/words-of-wisdom-w
 eb-series-the-soft-skills-of-safety/
URL:https://www.abcwi.org/events/words-of-wisdom-web-series-the-soft-skills-of-safety/
END:VEVENT
END:VCALENDAR