BEGIN:VCALENDAR
VERSION:2.0
PRODID:-//eventon.com NONSGML v1.0//EN
CALSCALE:GREGORIAN
METHOD:PUBLISH
BEGIN:VEVENT
UID:69e73adbe0e5f
DTSTAMP:20260421T085243Z
DTSTART:20230728T120000Z
DTEND:20230728T163000Z
LOCATION:Wildwood Lodge Pewaukee N14 W24121 Tower Place
SUMMARY:FA/CPR Training - Milwaukee
DESCRIPTION:Gold Cross FA/CPR  This course combines CPR and First Aid trai
 ning. It was designed for the occupational first aid provider\,  this extre
 mely flexible program can help employers meet OSHA and other federal and st
 ate regulatory requirements for training employees how to respond and care 
 for medical emergencies at work. Classes[..]\nhttps://www.abcwi.org/events/
 fa-cpr-training-milwaukee-4/
URL:https://www.abcwi.org/events/fa-cpr-training-milwaukee-4/
END:VEVENT
END:VCALENDAR