BEGIN:VCALENDAR
VERSION:2.0
PRODID:-//eventon.com NONSGML v1.0//EN
CALSCALE:GREGORIAN
METHOD:PUBLISH
BEGIN:VEVENT
UID:69e73cf730146
DTSTAMP:20260421T090143Z
DTSTART:20251111T140000Z
DTEND:20251111T210000Z
LOCATION:ABC of Wisconsin 5330 Wall St.\,  Madison\,  WI 53718
SUMMARY:Crew Leadership: The Good\,  The Bad\,  & The Uncomfortable
DESCRIPTION:In this interactive session\,  get ready to dive into leadershi
 p strategies that will propel you\,  your team\,  and your organization for
 ward! Discover what it truly means to be an effective leader\,  learn how t
 o empower your employees to excel on the jobsite\,  and understand your vit
 al role as a trainer.[..]\nhttps://www.abcwi.org/events/crew-leadership_nov
 25/
URL:https://www.abcwi.org/events/crew-leadership_nov25/
END:VEVENT
END:VCALENDAR