BEGIN:VCALENDAR
VERSION:2.0
PRODID:-//eventon.com NONSGML v1.0//EN
CALSCALE:GREGORIAN
METHOD:PUBLISH
BEGIN:VEVENT
UID:69e739483d66b
DTSTAMP:20260421T084600Z
DTSTART:20251023T123000Z
DTEND:20251023T203000Z
LOCATION:Tundra Lodge Resort 865 Lombardi Ave
SUMMARY:Plan & Spec Reading - Two-Day Course 2025
DESCRIPTION:Reading construction documents and plans are fundamental skills
  necessary for anyone striving to be successful in the construction industr
 y. This Plan &amp; Spec Reading course has been designed for individuals wi
 th little to no experience with reading construction plans and specificatio
 ns.  This two-day course will provide a basic overview of[..]\nhttps://www
 .abcwi.org/events/plan-spec-reading-two-day-course-nov25/
URL:https://www.abcwi.org/events/plan-spec-reading-two-day-course-nov25/
END:VEVENT
END:VCALENDAR