BEGIN:VCALENDAR
VERSION:2.0
PRODID:-//eventon.com NONSGML v1.0//EN
CALSCALE:GREGORIAN
METHOD:PUBLISH
BEGIN:VEVENT
UID:69e7509c2ca01
DTSTAMP:20260421T102532Z
DTSTART:20260819T213000Z
DTEND:20260819T233000Z
LOCATION:ABC of Wisconsin 5330 Wall St.\,  Madison\,  WI 53718
SUMMARY:Party on the Pavement - Madison
DESCRIPTION:Join ABC Members for networking\,  drinks\,  and food on August
  19th. 4:30p &#8211; 6:30p &nbsp; While this event is free to members\,  we
  still need to know how many individuals will attend at least 48 hours in a
 dvance. &nbsp; Sponsored by: &nbsp; &nbsp;\nhttps://www.abcwi.org/events/pa
 rty-on-the-pavement-madison/
URL:https://www.abcwi.org/events/party-on-the-pavement-madison/
END:VEVENT
END:VCALENDAR