BEGIN:VCALENDAR
VERSION:2.0
PRODID:-//eventon.com NONSGML v1.0//EN
CALSCALE:GREGORIAN
METHOD:PUBLISH
BEGIN:VEVENT
UID:69e8e512337bb
DTSTAMP:20260422T151114Z
DTSTART:20250211T213000Z
DTEND:20250211T223000Z
LOCATION:Glacier Canyon Conference Center 45 Hillman Road\,  Wisconsin Dells\,  WI 53965
SUMMARY:Membership Unplugged (Panel Discussion) at SuperCon
DESCRIPTION:Join us on February 11 in Wisconsin Dells for a special panel d
 iscussion at SuperCon. (This event does not include a SuperCon registration
 .) 3:30p &#8211; 4:30p: *NEW* Membership Unplugged (Panel Discussion) Unloc
 k the full potential of your ABC membership! Whether you’re new or a long
 -time member\,  join us to discover[..]\nhttps://www.abcwi.org/events/membe
 rship-unplugged-panel-discussion-at-supercon/
URL:https://www.abcwi.org/events/membership-unplugged-panel-discussion-at-supercon/
END:VEVENT
END:VCALENDAR