BEGIN:VCALENDAR
VERSION:2.0
PRODID:-//eventon.com NONSGML v1.0//EN
CALSCALE:GREGORIAN
METHOD:PUBLISH
BEGIN:VEVENT
UID:69e7508b7bb46
DTSTAMP:20260421T102515Z
DTSTART:20260424T230000Z
DTEND:20260425T045900Z
LOCATION:American Family Field 1 Brewers Way
SUMMARY:Milwaukee Brewers Game - SOLD OUT
DESCRIPTION:Join us April 24th to cheer on the Milwaukee Brewers as they ta
 ke on the Pittsburgh Pirates at American Family Field! *Tickets will be mai
 led via USPS or distributed digitally to attendees as we get closer to the 
 event* SOLD OUT We will not be tailgating outside this year! Tickets[..]\nh
 ttps://www.abcwi.org/events/milwaukee-brewers-tailgate-game/
URL:https://www.abcwi.org/events/milwaukee-brewers-tailgate-game/
END:VEVENT
END:VCALENDAR