BEGIN:VCALENDAR
VERSION:2.0
PRODID:-//eventon.com NONSGML v1.0//EN
CALSCALE:GREGORIAN
METHOD:PUBLISH
BEGIN:VEVENT
UID:69e4cebcddfc4
DTSTAMP:20260419T124652Z
DTSTART:20260528T140000Z
DTEND:20260528T220000Z
LOCATION:The Oaks Golf Course  4740 Pierceville Rd\,  Cottage Grove\,  WI 53527
SUMMARY:2026 Golf Scramble at The Oaks
DESCRIPTION:Join us on May 28th for the 2026 Golf Scramble at The Oaks. Reg
 istration opens at 9am. Shot gun start at 10am. Dinner to follow once golf 
 is done (approximate time 4pm). Limited to 144 Golfers. Golfer Registration
  is SOLD OUT *Contact Mary Austinson for any questions at maustinson@abcwi.
 org\nhttps://www.abcwi.org/events/2026-golf-scramble-at-the-oaks/
URL:https://www.abcwi.org/events/2026-golf-scramble-at-the-oaks/
END:VEVENT
END:VCALENDAR