BEGIN:VCALENDAR
VERSION:2.0
PRODID:-//eventon.com NONSGML v1.0//EN
CALSCALE:GREGORIAN
METHOD:PUBLISH
BEGIN:VEVENT
UID:69e66578005c0
DTSTAMP:20260420T174216Z
DTSTART:20260406T120000Z
DTEND:20260406T173000Z
LOCATION:Appleton Area
SUMMARY:10-hour OSHA Construction Safety & Health Outreach (Appleton)
DESCRIPTION:This is a TWO-DAY course being held in the Appleton area on Apr
 il 6 &amp; 7\,  2026. ABC&#8217;s 10-hour OSHA course covers critical safet
 y insights every construction team needs to know. This class includes: Intr
 oduction to OSHA\,  OSH Act/ General Duty Clause 5(a) (1)\,  Filing a Compl
 aint Subpart C: General[..]\nhttps://www.abcwi.org/events/10-hour-osha-cons
 truction-safety-health-outreach-appleton-4/
URL:https://www.abcwi.org/events/10-hour-osha-construction-safety-health-outreach-appleton-4/
END:VEVENT
END:VCALENDAR