BEGIN:VCALENDAR
VERSION:2.0
PRODID:-//eventon.com NONSGML v1.0//EN
CALSCALE:GREGORIAN
METHOD:PUBLISH
BEGIN:VEVENT
UID:69e7509c27ef5
DTSTAMP:20260421T102532Z
DTSTART:20260311T220000Z
DTEND:20260311T233000Z
LOCATION:Tanglewood 2200 Crestwood Dr.
SUMMARY:Networking Social - Menomonie
DESCRIPTION:Join us on March 11th in Menomonie from 5:00pm &#8211; 6:30pm. 
 Tanglewood Golf Course (2200 Crestwood Dr.\,  Menomonie) &nbsp; While this 
 event is free to members\,  we still need to know how many individuals will
  attend at least 48 hours in advance. &nbsp; Sponsored by: &nbsp; &nbsp; &n
 bsp;\nhttps://www.abcwi.org/events/networking-social-menomonie-3/
URL:https://www.abcwi.org/events/networking-social-menomonie-3/
END:VEVENT
END:VCALENDAR