BEGIN:VCALENDAR
VERSION:2.0
PRODID:-//eventon.com NONSGML v1.0//EN
CALSCALE:GREGORIAN
METHOD:PUBLISH
BEGIN:VEVENT
UID:69e75080b05d9
DTSTAMP:20260421T102504Z
DTSTART:20260709T220000Z
DTEND:20260709T233000Z
LOCATION:Smoke on the Water BBQ N50W35016 Wisconsin Ave
SUMMARY:Networking Social - Okauchee
DESCRIPTION:Join us on July 9th in Okauchee from 5:00pm &#8211; 6:30pm. Smo
 ke on the Water (N50W35016 Wisconsin Ave\,  Okauchee Lake\,  WI) &nbsp; Whi
 le this event is free to members\,  we still need to know how many individu
 als will attend at least 48 hours in advance. &nbsp; Sponsored by: &nbsp; &
 nbsp;[..]\nhttps://www.abcwi.org/events/networking-social-okauchee/
URL:https://www.abcwi.org/events/networking-social-okauchee/
END:VEVENT
END:VCALENDAR