BEGIN:VCALENDAR
VERSION:2.0
PRODID:-//eventon.com NONSGML v1.0//EN
CALSCALE:GREGORIAN
METHOD:PUBLISH
BEGIN:VEVENT
UID:69e74fcee5e72
DTSTAMP:20260421T102206Z
DTSTART:20260805T163000Z
DTEND:20260805T180000Z
LOCATION:TBD
SUMMARY:Member Lunch - Sheboygan
DESCRIPTION:This is a FREE ABC Member Only event!  Join us in Sheboygan at
  11:30a-1:00p on Wednesday\,  August 5th. Location TBD Come get to know oth
 er ABC Members in your area and ask any questions you might have on what&#8
 217;s happening in the industry right now. Feel free to bring other[..]\nht
 tps://www.abcwi.org/events/member-lunch-sheboygan/
URL:https://www.abcwi.org/events/member-lunch-sheboygan/
END:VEVENT
END:VCALENDAR