BEGIN:VCALENDAR
VERSION:2.0
PRODID:-//eventon.com NONSGML v1.0//EN
CALSCALE:GREGORIAN
METHOD:PUBLISH
BEGIN:VEVENT
UID:69e74eb085421
DTSTAMP:20260421T101720Z
DTSTART:20261028T163000Z
DTEND:20261028T180000Z
LOCATION:TBD
SUMMARY:Member Lunch - Lake Geneva
DESCRIPTION:This is a FREE ABC Member Only event!  Join us in Lake Geneva 
 at 11:30a-1:00p on Wednesday\,  October 28th. Location TBD Come get to know
  other ABC Members in your area and ask any questions you might have on wha
 t&#8217;s happening in the industry right now. Feel free to bring[..]\nhttp
 s://www.abcwi.org/events/member-lunch-lake-geneva/
URL:https://www.abcwi.org/events/member-lunch-lake-geneva/
END:VEVENT
END:VCALENDAR