BEGIN:VCALENDAR
VERSION:2.0
PRODID:-//eventon.com NONSGML v1.0//EN
CALSCALE:GREGORIAN
METHOD:PUBLISH
BEGIN:VEVENT
UID:69e750565daa3
DTSTAMP:20260421T102422Z
DTSTART:20260625T223000Z
DTEND:20260626T045900Z
LOCATION:ABC Supply Stadium 217 Shirland Ave.
SUMMARY:Beloit Sky Carp Baseball Game
DESCRIPTION:Mark your calendar and join us on June 25th to watch the Beloit
  Sky Carps take on the Peoria Chiefs in Beloit! Game time is 6:05pm We have
  50 tickets in the First National Bank &amp; Trust Suite. Tickets include a
 ll you can eat food and 2 drinks/person. Event Sponsored[..]\nhttps://www.a
 bcwi.org/events/beloit-sky-carp-baseball-game-2/
URL:https://www.abcwi.org/events/beloit-sky-carp-baseball-game-2/
END:VEVENT
END:VCALENDAR