BEGIN:VCALENDAR
VERSION:2.0
PRODID:-//eventon.com NONSGML v1.0//EN
CALSCALE:GREGORIAN
METHOD:PUBLISH
BEGIN:VEVENT
UID:69e73ab2228b2
DTSTAMP:20260421T085202Z
DTSTART:20260903T190000Z
DTEND:20260904T045900Z
LOCATION:Milford Hills Gun Club W5670 French Road
SUMMARY:2026 Sporting Clay Shoot Milford Hills
DESCRIPTION:Join ABC Members for an afternoon of prizes\,  food and a lot o
 f competitive fun at Milford Hills. Thursday\,  September 3rd\,  2026 Regis
 tration: 1:00pm Safety Speech: 2:00p Shooting Begins: 2:15p Social &amp; Di
 nner &amp; Prizes: 4:30p Teams of 4 and 5 are encouraged. If you sign up wi
 th less than[..]\nhttps://www.abcwi.org/events/2026-sporting-clay-shoot-mil
 ford-hills/
URL:https://www.abcwi.org/events/2026-sporting-clay-shoot-milford-hills/
END:VEVENT
END:VCALENDAR